BEGIN:VCALENDAR
VERSION:2.0
BEGIN:VEVENT
DTSTART:20260303T210000Z
DTEND:20260524T040000Z
SUMMARY:Uncovering Katherine Mansfield's House
DESCRIPTION:An exhibition digging into the archaeology work undertaken at Katherine Mansfield House & Garden, suitable for all ages with activities for children.
LOCATION:Katherine Mansfield House & Garden, 25 Tinakori Road, Thorndon, Wellington, 6011, New Zealand
END:VEVENT
END:VCALENDAR